BEGIN:VCALENDAR
VERSION:2.0
PRODID:icalendar-ruby
CALSCALE:GREGORIAN
METHOD:PUBLISH
BEGIN:VEVENT
DTSTAMP:20260424T203838Z
UID:184-1731400@transformtbay.com
DTSTART:20260814T110000Z
DTEND:20260814T120000Z
CLASS:PUBLIC
CREATED:20260424T150359
DESCRIPTION:Prayer Meeting every Friday at 7:00 AM in person at Transformat
 ion Church (Upstairs)
LAST-MODIFIED:20260424T150359
LOCATION:Transformation Church
SUMMARY:Prayer Group
URL;VALUE=URI:https://www.transformationchurchtbay.com/events/prayer-group/
 2026-08-14
END:VEVENT
END:VCALENDAR
