BEGIN:VCALENDAR
VERSION:2.0
PRODID:icalendar-ruby
CALSCALE:GREGORIAN
METHOD:PUBLISH
BEGIN:VEVENT
DTSTAMP:20260423T223649Z
UID:184-1726694@transformtbay.com
DTSTART:20260508T110000Z
DTEND:20260508T120000Z
CLASS:PUBLIC
CREATED:20260423T181137
DESCRIPTION:Prayer Meeting every Friday at 7:00 AM in person at Transformat
 ion Church (Upstairs)
LAST-MODIFIED:20260423T181137
LOCATION:Transformation Church
SUMMARY:Prayer Group
URL;VALUE=URI:https://www.transformationchurchtbay.com/events/prayer-group/
 2026-05-08
END:VEVENT
END:VCALENDAR
